BEGIN:VCALENDAR
VERSION:2.0
PRODID:-//Mănăstirea Bran - ECPv6.9.0//NONSGML v1.0//EN
CALSCALE:GREGORIAN
METHOD:PUBLISH
X-WR-CALNAME:Mănăstirea Bran
X-ORIGINAL-URL:https://manastireabran.ro
X-WR-CALDESC:Events for Mănăstirea Bran
REFRESH-INTERVAL;VALUE=DURATION:PT1H
X-Robots-Tag:noindex
X-PUBLISHED-TTL:PT1H
BEGIN:VTIMEZONE
TZID:Europe/London
BEGIN:DAYLIGHT
TZOFFSETFROM:+0000
TZOFFSETTO:+0100
TZNAME:BST
DTSTART:20200329T010000
END:DAYLIGHT
BEGIN:STANDARD
TZOFFSETFROM:+0100
TZOFFSETTO:+0000
TZNAME:GMT
DTSTART:20201025T010000
END:STANDARD
END:VTIMEZONE
BEGIN:VEVENT
DTSTART;TZID=Europe/London:20200205T080000
DTEND;TZID=Europe/London:20200429T170000
DTSTAMP:20260424T160942
CREATED:20200205T173015Z
LAST-MODIFIED:20200205T173015Z
UID:7293-1580889600-1588179600@manastireabran.ro
SUMMARY:Love After Marriage
DESCRIPTION:Our goal is to instruct and guide married couples into a relationship characterized by openness\, vulnerability\, and love. During the Love After Marriage (LAM) Workshop\, couples have an opportunity through the working of Holy Spirit\, to learn and practice how to bring spiritual\, emotional\, and sexual oneness into their relationship. \n\n\n\nYour participation in this workshop will provide: \n\n\n\nFresh teaching on the basic principles of spiritual\, emotional\, and sexual onenessTools to take your marriage to a higher level of intimacy\, communication\, and enjoymentOpportunities to practice these tools in a small group settingBreakthrough for struggling marriagesKeys to take even healthy marriages to a higher levelTraining and materials available to bring this life-changing ministry into your church
URL:https://manastireabran.ro/event/love-after-marriage/
LOCATION:New York\, 233 Main St\, New York\, NY\, United States
CATEGORIES:Relationship
ATTACH;FMTTYPE=:
END:VEVENT
BEGIN:VEVENT
DTSTART;TZID=Europe/London:20200206T190000
DTEND;TZID=Europe/London:20200415T210000
DTSTAMP:20260424T160942
CREATED:20200129T084232Z
LAST-MODIFIED:20200129T084232Z
UID:6278-1581015600-1586984400@manastireabran.ro
SUMMARY:Definitions: Gospel and Persuade
DESCRIPTION:Conversion is the point of Christian faith that is most often misunderstood. It’s also a word that’s not particularly in favor of the modern world. No surprise. It was confusing when Jesus taught it to a religious leader of his day (John 3)\, and it is confusing to Christians and non-Christians today. So it’s good to spend some time explaining it.In the Muslim context where I live\, many people from other faith backgrounds find it disorienting to hear me preach that no one is born a Christian\, that all Christians are converting. Even those from Christian backgrounds are confused about conversion because many come from traditions that emphasize that a person is a Christian because of external reasons. But the Bible clearly teaches that conversion is not a function of your parents’ religion\, of which church you join\, or of what your passport says. It’s not based on your academic achievements\, even if they are from a religious institution. Conversion comes from true\, conscious\, genuine faith in Jesus.
URL:https://manastireabran.ro/event/definitions-gospel-and-persuade/
LOCATION:New York\, 233 Main St\, New York\, NY\, United States
CATEGORIES:Relationship
ATTACH;FMTTYPE=:
END:VEVENT
END:VCALENDAR