BEGIN:VCALENDAR
VERSION:2.0
PRODID:-//Mănăstirea Bran - ECPv6.9.0//NONSGML v1.0//EN
CALSCALE:GREGORIAN
METHOD:PUBLISH
X-ORIGINAL-URL:https://manastireabran.ro
X-WR-CALDESC:Events for Mănăstirea Bran
REFRESH-INTERVAL;VALUE=DURATION:PT1H
X-Robots-Tag:noindex
X-PUBLISHED-TTL:PT1H
BEGIN:VTIMEZONE
TZID:Europe/London
BEGIN:DAYLIGHT
TZOFFSETFROM:+0000
TZOFFSETTO:+0100
TZNAME:BST
DTSTART:20200329T010000
END:DAYLIGHT
BEGIN:STANDARD
TZOFFSETFROM:+0100
TZOFFSETTO:+0000
TZNAME:GMT
DTSTART:20201025T010000
END:STANDARD
END:VTIMEZONE
BEGIN:VEVENT
DTSTART;TZID=Europe/London:20200220T180000
DTEND;TZID=Europe/London:20200411T190000
DTSTAMP:20260424T051549
CREATED:20200205T130330Z
LAST-MODIFIED:20200205T130330Z
UID:7254-1582221600-1586631600@manastireabran.ro
SUMMARY:Heaven in Business: Sacred Work
DESCRIPTION:The world is on the verge of a spiritual awakening and it is not confined to the four walls of the church. Work is the greatest place to develop and forge our friendship with God. When God partners with us in all that we do\, then there is no such thing as a “normal day“. We believe that your work is significant because of the ONE who called you to it. You don’t need to be a preacher in the pulpit in order to advance God’s Kingdom. Your work\, is your ministry. We’ve created a worldwide community of Believers who know their calling is to the business realm. Thousands of lives have been touched & transformed\, and those numbers grow each day. \n\n\n\n When you realize your work is sacred and experience how much God wants to partner with you\, hopelessness and insignificance become a thing of the past. Your vision for life will be supercharged with possibility. Join us at the Sacred Work Conference and leave with renewed vision\, increased significance\, and a deepened friendship with God.
URL:https://manastireabran.ro/event/temple-and-family-history-leadership/
LOCATION:New York\, 233 Main St\, New York\, NY\, United States
CATEGORIES:Relationship
ATTACH;FMTTYPE=:
END:VEVENT
END:VCALENDAR